BEGIN:VCALENDAR
VERSION:2.0
PRODID:-//Andalusian Horse Riding - ECPv4.9.13//NONSGML v1.0//EN
CALSCALE:GREGORIAN
METHOD:PUBLISH
X-WR-CALNAME:Andalusian Horse Riding
X-ORIGINAL-URL:https://www.andalusianhorseriding.com/es
X-WR-CALDESC:Eventos para Andalusian Horse Riding
BEGIN:VTIMEZONE
TZID:Europe/London
BEGIN:DAYLIGHT
TZOFFSETFROM:+0000
TZOFFSETTO:+0100
TZNAME:BST
DTSTART:20170326T010000
END:DAYLIGHT
BEGIN:STANDARD
TZOFFSETFROM:+0100
TZOFFSETTO:+0000
TZNAME:GMT
DTSTART:20171029T010000
END:STANDARD
END:VTIMEZONE
BEGIN:VEVENT
DTSTART;TZID=Europe/London:20171018T080000
DTEND;TZID=Europe/London:20171018T080000
DTSTAMP:20260421T214522
CREATED:20170905T202654Z
LAST-MODIFIED:20200417T052528Z
UID:13417-1508313600-1508313600@www.andalusianhorseriding.com
SUMMARY:PRIMER CONTACTO DE LOS NIÑOS CON CABALLOS
DESCRIPTION:A través de estas sesiones\, los niños aprenden a lidiar con el pony o el caballo\, desarrollar una pasión por la naturaleza y adquirir o mejorar sus habilidades de equitación. \n\n\n\n\nLas primeras lecciones generalmente implican conocer las habilidades básicas como:\n\n\n\n\n\nsubir y bajar del caballo;\ncómo sentarse correctamente\ncómo caminar y trotar;\nsosteniendo los reinados correctamente;\nmuestra un caballo\n¡y mucho\, mucho más!\n\n
URL:https://www.andalusianhorseriding.com/es/activity/primer-contacto-de-los-ninos-con-caballos/2017-10-18/
LOCATION:SEVILLE\, SEVILLE\, Seville\, 41070\, Spain
CATEGORIES:Horse Riding
ATTACH;FMTTYPE=image/jpeg:https://www.andalusianhorseriding.com/wp-content/uploads/2017/09/FIRST-CONTACT.jpg
ORGANIZER;CN="Andalusian%20Horse%20Experiences":MAILTO:info@andalusianhorseriding.com
END:VEVENT
END:VCALENDAR