BEGIN:VCALENDAR
VERSION:2.0
PRODID:-//Andalusian Horse Riding - ECPv4.9.13//NONSGML v1.0//EN
CALSCALE:GREGORIAN
METHOD:PUBLISH
X-WR-CALNAME:Andalusian Horse Riding
X-ORIGINAL-URL:https://www.andalusianhorseriding.com
X-WR-CALDESC:Events for Andalusian Horse Riding
BEGIN:VTIMEZONE
TZID:Europe/London
BEGIN:DAYLIGHT
TZOFFSETFROM:+0000
TZOFFSETTO:+0100
TZNAME:BST
DTSTART:20180325T010000
END:DAYLIGHT
BEGIN:STANDARD
TZOFFSETFROM:+0100
TZOFFSETTO:+0000
TZNAME:GMT
DTSTART:20181028T010000
END:STANDARD
END:VTIMEZONE
BEGIN:VEVENT
DTSTART;TZID=Europe/London:20180524T080000
DTEND;TZID=Europe/London:20180524T080000
DTSTAMP:20260421T135912
CREATED:20180517T192655Z
LAST-MODIFIED:20180517T193132Z
UID:11487-1527148800-1527148800@www.andalusianhorseriding.com
SUMMARY:UBEDA HORSE RIDE
DESCRIPTION: Ubeda is one of the Two of Jaén’s most beautiful cities. \nBaeza and Úbeda\, dreams on horseback!\n \n
URL:https://www.andalusianhorseriding.com/activity/ubeda-horse-ride/2018-05-24/
LOCATION:UBEDA\, 23400\, Spain
CATEGORIES:Horse Riding
ATTACH;FMTTYPE=image/png:https://www.andalusianhorseriding.com/wp-content/uploads/2018/05/UBEDA.png
ORGANIZER;CN="Andalusian%20Horse%20Experiences":MAILTO:info@andalusianhorseriding.com
END:VEVENT
END:VCALENDAR