BEGIN:VCALENDAR
VERSION:2.0
PRODID:-//Andalusian Horse Riding - ECPv4.9.13//NONSGML v1.0//EN
CALSCALE:GREGORIAN
METHOD:PUBLISH
X-WR-CALNAME:Andalusian Horse Riding
X-ORIGINAL-URL:https://www.andalusianhorseriding.com
X-WR-CALDESC:Events for Andalusian Horse Riding
BEGIN:VTIMEZONE
TZID:Europe/London
BEGIN:DAYLIGHT
TZOFFSETFROM:+0000
TZOFFSETTO:+0100
TZNAME:BST
DTSTART:20180325T010000
END:DAYLIGHT
BEGIN:STANDARD
TZOFFSETFROM:+0100
TZOFFSETTO:+0000
TZNAME:GMT
DTSTART:20181028T010000
END:STANDARD
END:VTIMEZONE
BEGIN:VEVENT
DTSTART;TZID=Europe/London:20180114T080000
DTEND;TZID=Europe/London:20180114T080000
DTSTAMP:20260421T134059
CREATED:20180108T084853Z
LAST-MODIFIED:20180108T085422Z
UID:9534-1515916800-1515916800@www.andalusianhorseriding.com
SUMMARY:SIERRA MORENA HORSE MOTEL. SPAIN . CORDOBA
DESCRIPTION:Looking for a a transit stable while travelling with your horse?\nWhether you are looking for a stable for one night\, a livery yard for a week\, or a paddock for a month\, Andalusian Hoses Riding offers you the services according your needs. \nSIERRA MORENA HORSE MOTEL. SPAIN . CORDOBA \n  \n
URL:https://www.andalusianhorseriding.com/activity/sierra-morena-horse-motel-spain-cordoba/2018-01-14/
LOCATION:SIERRA MORENA NATURAL PARK\, CORDOBA\, 14420\, Spain
CATEGORIES:HORSE ACCOMODATION
ATTACH;FMTTYPE=image/jpeg:https://www.andalusianhorseriding.com/wp-content/uploads/2018/01/HORSEMOTEL1-1.jpg
ORGANIZER;CN="Andalusian%20Horse%20Experiences":MAILTO:info@andalusianhorseriding.com
END:VEVENT
END:VCALENDAR