BEGIN:VCALENDAR
VERSION:2.0
PRODID:-//Andalusian Horse Riding - ECPv4.9.13//NONSGML v1.0//EN
CALSCALE:GREGORIAN
METHOD:PUBLISH
X-WR-CALNAME:Andalusian Horse Riding
X-ORIGINAL-URL:https://www.andalusianhorseriding.com
X-WR-CALDESC:Events for Andalusian Horse Riding
BEGIN:VTIMEZONE
TZID:Europe/London
BEGIN:DAYLIGHT
TZOFFSETFROM:+0000
TZOFFSETTO:+0100
TZNAME:BST
DTSTART:20170326T010000
END:DAYLIGHT
BEGIN:STANDARD
TZOFFSETFROM:+0100
TZOFFSETTO:+0000
TZNAME:GMT
DTSTART:20171029T010000
END:STANDARD
END:VTIMEZONE
BEGIN:VEVENT
DTSTART;TZID=Europe/London:20171105T080000
DTEND;TZID=Europe/London:20171105T080000
DTSTAMP:20260422T025156
CREATED:20171019T195416Z
LAST-MODIFIED:20171116T195920Z
UID:5581-1509868800-1509868800@www.andalusianhorseriding.com
SUMMARY:SANLUCAR DE BARRAMEDA HORSE RIDES
DESCRIPTION:Welcome\, and prepare to embark on a memorable journey through one of Spain´s most beautiful settings. \nWith this tour\, you will experience a relaxing view on horseback\, as well as discover the natural beauty of Spain. \nIf you are interested in embarking on this peaceful tour\, please contact Andalusian Horse Riding to schedule a horse riding tour.There are horse rides everyday. \nRide a horse in CORIPE\,Equestrian tour in  ALCAIDESA\, ride on horsebabck while visiting ALGAMITAS\, hiring horses in MORÓN DE LA FRONTERA\, riding fun in the sun in LOS PALACIOS\,  riding on a horse in UTRERA\, horse ride in ALMONTE one of the most beautiful rides in andalucia\, OLVERA\, unforgetable riding in BARBATE\, adventure on horseback in  CARMONA\, unique riding experience in DOÑANA\, ride-outs GAUCIN\,  horseride SANLUCAR\, ride with us in JEREZ DE LA FRONTERA\,  horse ride and treck in OSUNA\, treck  through andalucia finest countryside PRUNA\, horseback riding for the whole family in PUERTO REAL\, guide ride  in  PUERTO  SERRANO\,  trail horse riding in SIERRA NORTE DE SEVILLA\, breathtaking views on horseback in  TORREGUADIARO\, exclusively experience in TORREMOLINOS\,book your horse ride in romantic  RONDA\,amazing horse ride in CASTELLAR DE LA FRONTERA\, SEVILLE\, MONTELLANO\,unforgateble radventure in JIMENA DE LA FRONTERA\,relax on a horse ride in beaches in TARIFA\, simplest riding ponies rides in SAN ENRIQUE DE GUADIARO\, stunning scenic horse rides in CORDOBA\, SIERRA MORENA CORDOBA\, VILLAFRANCA DE CORDOBA\, PARQUE NATURAL CARDEÑA\, LA CARLOTA\, MONTORO\, EL VISO\, VILLANUEVA DE CORDOBA\,  PUEBLA DEL RIO\, PALOS DE LA FRONTERA\, LA RABIDA\, MONFRAGUE\, GUADALUPE\, JARANDILLA\,\, BODEGONES\, CABEZUDOS\, PALACIO DE ACEBRON\, LA ROCINA HUELVA\, EL ROCIO\, MATALASCAÑAS\, MAZAGON\, CANTILLANA\, HINOJOS\, MOGUER\, CORIA DEL RIO\, CAZALLA DE LA SIERRA\, SAN NICOLAS DEL PUERTO\, EL PEDROSO\,… \n
URL:https://www.andalusianhorseriding.com/activity/sanlucar-de-barrameda-horse-rides/2017-11-05/
LOCATION:SANLUCAR DE BARRAMEDA\, 11540\, Spain
CATEGORIES:Horse Riding
ATTACH;FMTTYPE=image/jpeg:https://www.andalusianhorseriding.com/wp-content/uploads/2017/10/HORSERIDESSANLUCARDEBARRAMEDA.jpg
ORGANIZER;CN="Andalusian%20Horse%20Experiences":MAILTO:info@andalusianhorseriding.com
END:VEVENT
END:VCALENDAR