BEGIN:VCALENDAR
VERSION:2.0
PRODID:-//Andalusian Horse Riding - ECPv4.9.13//NONSGML v1.0//EN
CALSCALE:GREGORIAN
METHOD:PUBLISH
X-WR-CALNAME:Andalusian Horse Riding
X-ORIGINAL-URL:https://www.andalusianhorseriding.com
X-WR-CALDESC:Events for Andalusian Horse Riding
BEGIN:VTIMEZONE
TZID:Europe/London
BEGIN:DAYLIGHT
TZOFFSETFROM:+0000
TZOFFSETTO:+0100
TZNAME:BST
DTSTART:20180325T010000
END:DAYLIGHT
BEGIN:STANDARD
TZOFFSETFROM:+0100
TZOFFSETTO:+0000
TZNAME:GMT
DTSTART:20181028T010000
END:STANDARD
END:VTIMEZONE
BEGIN:VEVENT
DTSTART;TZID=Europe/London:20180531T080000
DTEND;TZID=Europe/London:20180531T170000
DTSTAMP:20260421T110402
CREATED:20180517T193701Z
LAST-MODIFIED:20180517T194543Z
UID:11646-1527753600-1527786000@www.andalusianhorseriding.com
SUMMARY:RINCON DE LA VICTORIA HORSE RIDE. MALAGA SPAIN
DESCRIPTION:Horseback Riding Rincon De La Victoria:  \nLook up for prices\, request your estimate and find the best offers in horse riding  \n
URL:https://www.andalusianhorseriding.com/activity/rincon-de-la-victoria-horse-ride-malaga-spain/2018-05-31/
LOCATION:RINCON DE LA VICTORIA\, 29730\, Spain
CATEGORIES:Horse Riding
ATTACH;FMTTYPE=image/png:https://www.andalusianhorseriding.com/wp-content/uploads/2018/05/RINCON-VICTORIA.png
ORGANIZER;CN="Andalusian%20Horse%20Experiences":MAILTO:info@andalusianhorseriding.com
END:VEVENT
END:VCALENDAR