BEGIN:VCALENDAR
VERSION:2.0
PRODID:-//Andalusian Horse Riding - ECPv4.9.13//NONSGML v1.0//EN
CALSCALE:GREGORIAN
METHOD:PUBLISH
X-WR-CALNAME:Andalusian Horse Riding
X-ORIGINAL-URL:https://www.andalusianhorseriding.com
X-WR-CALDESC:Events for Andalusian Horse Riding
BEGIN:VTIMEZONE
TZID:Europe/London
BEGIN:DAYLIGHT
TZOFFSETFROM:+0000
TZOFFSETTO:+0100
TZNAME:BST
DTSTART:20180325T010000
END:DAYLIGHT
BEGIN:STANDARD
TZOFFSETFROM:+0100
TZOFFSETTO:+0000
TZNAME:GMT
DTSTART:20181028T010000
END:STANDARD
END:VTIMEZONE
BEGIN:VEVENT
DTSTART;TZID=Europe/London:20180210T080000
DTEND;TZID=Europe/London:20180210T080000
DTSTAMP:20260421T181028
CREATED:20180206T073212Z
LAST-MODIFIED:20180206T073443Z
UID:10933-1518249600-1518249600@www.andalusianhorseriding.com
SUMMARY:Le poney-club de Andalusian Horse Riding
DESCRIPTION:Une opportunité pour les enfants d’apprendre à connaître les poneys. \n
URL:https://www.andalusianhorseriding.com/activity/le-poney-club-de-andalusian-horse-riding/2018-02-10/
LOCATION:Monfragüe\, Caceres\, 105590\, Spain
CATEGORIES:pony club
ATTACH;FMTTYPE=image/jpeg:https://www.andalusianhorseriding.com/wp-content/uploads/2018/02/Poney-Club-pour-enfants-en-Espagne.-Vacances.jpg
ORGANIZER;CN="Andalusian%20Horse%20Experiences":MAILTO:info@andalusianhorseriding.com
END:VEVENT
END:VCALENDAR