BEGIN:VCALENDAR
VERSION:2.0
PRODID:-//Andalusian Horse Riding - ECPv4.9.13//NONSGML v1.0//EN
CALSCALE:GREGORIAN
METHOD:PUBLISH
X-WR-CALNAME:Andalusian Horse Riding
X-ORIGINAL-URL:https://www.andalusianhorseriding.com
X-WR-CALDESC:Events for Andalusian Horse Riding
BEGIN:VTIMEZONE
TZID:Europe/London
BEGIN:DAYLIGHT
TZOFFSETFROM:+0000
TZOFFSETTO:+0100
TZNAME:BST
DTSTART:20170326T010000
END:DAYLIGHT
BEGIN:STANDARD
TZOFFSETFROM:+0100
TZOFFSETTO:+0000
TZNAME:GMT
DTSTART:20171029T010000
END:STANDARD
END:VTIMEZONE
BEGIN:VEVENT
DTSTART;TZID=Europe/London:20171110T080000
DTEND;TZID=Europe/London:20171110T080000
DTSTAMP:20260421T163933
CREATED:20170818T110745Z
LAST-MODIFIED:20171020T203056Z
UID:2094-1510300800-1510300800@www.andalusianhorseriding.com
SUMMARY:HORSES \, AND LANGUAGE GAMES AT THE ZOO
DESCRIPTION:How do you spell H-O-R-S-E? \nThis is one of the typical questions kids will be asked when they visit the Zoo of Castellar De La Frontera. The children will be given the opportunity to learn many new terms and vocabulary in regards to the animal world. After the visit to the zoo\, the children will mount on horses and visit an enchanting castle to explore the medieval culture of Andalucía. \nAndalusian Horse Riding understands the importance of being bilingual and the education of the children. This tour will allow the children to develop social skills as well as practice their Spanish while participating in activities that enriches their language skills. When children are given the opportunity to learn a language while having fun\, it is easier for them to develop the skills. Andalusian Horse Riding is proud to offer its services to children looking to develop language skills. \n
URL:https://www.andalusianhorseriding.com/activity/horses-language-games-zoo/2017-11-10/
LOCATION:CORTES DE LA FRONTERA\, PLAZA AYUNTAMIENTO\, CORTES DE LA FRONTERA\, MALAGA\, Spain
CATEGORIES:Andalusian Culture,Horse Riding
ATTACH;FMTTYPE=image/jpeg:https://www.andalusianhorseriding.com/wp-content/uploads/2017/08/How-do-you-spell...H-OR-S-E_.jpg
ORGANIZER;CN="Andalusian%20Horse%20Experiences":MAILTO:info@andalusianhorseriding.com
END:VEVENT
END:VCALENDAR