BEGIN:VCALENDAR
VERSION:2.0
PRODID:-//Andalusian Horse Riding - ECPv4.9.13//NONSGML v1.0//EN
CALSCALE:GREGORIAN
METHOD:PUBLISH
X-WR-CALNAME:Andalusian Horse Riding
X-ORIGINAL-URL:https://www.andalusianhorseriding.com
X-WR-CALDESC:Events for Andalusian Horse Riding
BEGIN:VTIMEZONE
TZID:Europe/London
BEGIN:DAYLIGHT
TZOFFSETFROM:+0000
TZOFFSETTO:+0100
TZNAME:BST
DTSTART:20170326T010000
END:DAYLIGHT
BEGIN:STANDARD
TZOFFSETFROM:+0100
TZOFFSETTO:+0000
TZNAME:GMT
DTSTART:20171029T010000
END:STANDARD
END:VTIMEZONE
BEGIN:VEVENT
DTSTART;TZID=Europe/London:20171109T080000
DTEND;TZID=Europe/London:20171109T080000
DTSTAMP:20260421T145726
CREATED:20170818T105904Z
LAST-MODIFIED:20171020T202722Z
UID:2020-1510214400-1510214400@www.andalusianhorseriding.com
SUMMARY:HORSE ADVENTURES AND CASTLES
DESCRIPTION:Fairytale Horse Rides for Schools \nAndalusian Horse Riding understands the importance of being bilingual and the education of the children. This tour will allow the children to develop social skills as well as practice their Spanish while participating in activities that enriches their language skills. When children are given the opportunity to learn a language while having fun\, it is easier for them to develop the skills. Andalusian Horse Riding is proud to offer its services to children looking to develop language skills. \nWe will travel through the beautiful countryside of Spain to reach THE HISTORICAL CASTLE. On this tour\, you will experience the peaceful nature\, breathtaking views\, and the magic of the castle. \nYou will ENJOY the pace and travel through the beautiful naturalistic views. We will stop for a picnic lunch\, and then continue with the programmed activities. \n
URL:https://www.andalusianhorseriding.com/activity/horse-adventures-castles/2017-11-09/
LOCATION:Jimena de la Frontera\, Jimena de la Frontera\, Cadiz\, Cadiz\, Spain
CATEGORIES:Andalusian Culture,Horse Riding
ATTACH;FMTTYPE=image/jpeg:https://www.andalusianhorseriding.com/wp-content/uploads/2017/08/HORSE-ADVENTURES-AND-CASTLES.jpg
ORGANIZER;CN="Andalusian%20Horse%20Experiences":MAILTO:info@andalusianhorseriding.com
END:VEVENT
END:VCALENDAR