BEGIN:VCALENDAR
VERSION:2.0
PRODID:-//Andalusian Horse Riding - ECPv4.9.13//NONSGML v1.0//EN
CALSCALE:GREGORIAN
METHOD:PUBLISH
X-WR-CALNAME:Andalusian Horse Riding
X-ORIGINAL-URL:https://www.andalusianhorseriding.com
X-WR-CALDESC:Events for Andalusian Horse Riding
BEGIN:VTIMEZONE
TZID:Europe/London
BEGIN:DAYLIGHT
TZOFFSETFROM:+0000
TZOFFSETTO:+0100
TZNAME:BST
DTSTART:20170326T010000
END:DAYLIGHT
BEGIN:STANDARD
TZOFFSETFROM:+0100
TZOFFSETTO:+0000
TZNAME:GMT
DTSTART:20171029T010000
END:STANDARD
END:VTIMEZONE
BEGIN:VEVENT
DTSTART;TZID=Europe/London:20171031T080000
DTEND;TZID=Europe/London:20171031T080000
DTSTAMP:20260422T004236
CREATED:20171029T173333Z
LAST-MODIFIED:20171029T173333Z
UID:6418-1509436800-1509436800@www.andalusianhorseriding.com
SUMMARY:Halloween on horseback: PUERTO DE LA DUQUESA
DESCRIPTION:The Halloween Adventure on horseback! Enjoy the time of Halloween in PUERTO DE LA DUQUESA. CADIZ. SPAIN \n
URL:https://www.andalusianhorseriding.com/activity/halloween-horseback-puerto-de-la-duquesa/
LOCATION:PUERTO DE LA DUQUESA\, 29692\, Spain
CATEGORIES:Horse Riding
ATTACH;FMTTYPE=image/jpeg:https://www.andalusianhorseriding.com/wp-content/uploads/2017/10/PUERTO-DUQUESA-HALLOWEEN.jpg
ORGANIZER;CN="Andalusian%20Horse%20Experiences":MAILTO:info@andalusianhorseriding.com
END:VEVENT
END:VCALENDAR