BEGIN:VCALENDAR
VERSION:2.0
PRODID:-//Andalusian Horse Riding - ECPv4.9.13//NONSGML v1.0//EN
CALSCALE:GREGORIAN
METHOD:PUBLISH
X-WR-CALNAME:Andalusian Horse Riding
X-ORIGINAL-URL:https://www.andalusianhorseriding.com
X-WR-CALDESC:Events for Andalusian Horse Riding
BEGIN:VTIMEZONE
TZID:Europe/London
BEGIN:DAYLIGHT
TZOFFSETFROM:+0000
TZOFFSETTO:+0100
TZNAME:BST
DTSTART:20170326T010000
END:DAYLIGHT
BEGIN:STANDARD
TZOFFSETFROM:+0100
TZOFFSETTO:+0000
TZNAME:GMT
DTSTART:20171029T010000
END:STANDARD
END:VTIMEZONE
BEGIN:VEVENT
DTSTART;TZID=Europe/London:20171031T080000
DTEND;TZID=Europe/London:20171031T080000
DTSTAMP:20260421T234825
CREATED:20171029T174259Z
LAST-MODIFIED:20171029T190251Z
UID:6426-1509436800-1509436800@www.andalusianhorseriding.com
SUMMARY:Halloween fun family horse ride activity. ESTEPONA
DESCRIPTION:What about a place to have a  Halloween children’s party with  different activities ?  Spend Halloween time together ! Fun for all the family guaranteed! \nAndalusian Horse Riding is giving you the perfect opportunity to get ready for Halloween with a fun family horse ride activity. \n
URL:https://www.andalusianhorseriding.com/activity/halloween-fun-family-horse-ride-activity-estepona/
LOCATION:ESTEPONA\, ESTEPONA\, MALAGA\, 29680\, Spain
CATEGORIES:Horse Riding,PONY RIDES
ATTACH;FMTTYPE=image/jpeg:https://www.andalusianhorseriding.com/wp-content/uploads/2017/10/PONY-RIDES-ESTEPONA.jpg
ORGANIZER;CN="Andalusian%20Horse%20Experiences":MAILTO:info@andalusianhorseriding.com
END:VEVENT
END:VCALENDAR