BEGIN:VCALENDAR
VERSION:2.0
PRODID:-//Andalusian Horse Riding - ECPv4.9.13//NONSGML v1.0//EN
CALSCALE:GREGORIAN
METHOD:PUBLISH
X-WR-CALNAME:Andalusian Horse Riding
X-ORIGINAL-URL:https://www.andalusianhorseriding.com
X-WR-CALDESC:Events for Andalusian Horse Riding
BEGIN:VTIMEZONE
TZID:Europe/London
BEGIN:DAYLIGHT
TZOFFSETFROM:+0000
TZOFFSETTO:+0100
TZNAME:BST
DTSTART:20170326T010000
END:DAYLIGHT
BEGIN:STANDARD
TZOFFSETFROM:+0100
TZOFFSETTO:+0000
TZNAME:GMT
DTSTART:20171029T010000
END:STANDARD
END:VTIMEZONE
BEGIN:VEVENT
DTSTART;TZID=Europe/London:20171101T080000
DTEND;TZID=Europe/London:20171101T200000
DTSTAMP:20260421T234543
CREATED:20171019T173006Z
LAST-MODIFIED:20171019T173451Z
UID:5235-1509523200-1509566400@www.andalusianhorseriding.com
SUMMARY:CORIPE. SEVILLE. VIA VERDE.
DESCRIPTION:Welcome\, and prepare to embark on a memorable journey through one of Spain´s most beautiful settings. \nWith this tour\, you will experience a relaxing view on horseback\, as well as discover the natural beauty of Spain. \nIf you are interested in embarking on this peaceful tour\, please contact Andalusian Horse Riding to schedule a horse riding tour. \n
URL:https://www.andalusianhorseriding.com/activity/coripe-seville-via-verde/2017-11-01/
LOCATION:CORIPE. VIA VERDE\, 41780\, Spain
CATEGORIES:Horse Riding
ATTACH;FMTTYPE=image/jpeg:https://www.andalusianhorseriding.com/wp-content/uploads/2017/10/CORIPE-HORSERIDES-2.jpg
ORGANIZER;CN="Andalusian%20Horse%20Experiences":MAILTO:info@andalusianhorseriding.com
END:VEVENT
END:VCALENDAR