BEGIN:VCALENDAR
VERSION:2.0
PRODID:-//Andalusian Horse Riding - ECPv4.9.13//NONSGML v1.0//EN
CALSCALE:GREGORIAN
METHOD:PUBLISH
X-WR-CALNAME:Andalusian Horse Riding
X-ORIGINAL-URL:https://www.andalusianhorseriding.com
X-WR-CALDESC:Events for Andalusian Horse Riding
BEGIN:VTIMEZONE
TZID:Europe/London
BEGIN:DAYLIGHT
TZOFFSETFROM:+0000
TZOFFSETTO:+0100
TZNAME:BST
DTSTART:20180325T010000
END:DAYLIGHT
BEGIN:STANDARD
TZOFFSETFROM:+0100
TZOFFSETTO:+0000
TZNAME:GMT
DTSTART:20181028T010000
END:STANDARD
END:VTIMEZONE
BEGIN:VEVENT
DTSTART;TZID=Europe/London:20180113T080000
DTEND;TZID=Europe/London:20180113T080000
DTSTAMP:20260421T132849
CREATED:20180107T152508Z
LAST-MODIFIED:20180108T082255Z
UID:8307-1515830400-1515830400@www.andalusianhorseriding.com
SUMMARY:CORDOBA. HORSE MOTEL. VACATION WITH YOUR HORSE
DESCRIPTION:\nCORDOBA. HORSE MOTEL. VACATION WITH YOUR HORSE\nLooking for a a transit stable while travelling with your horse?\nWhether you are looking for a stable for one night\, a livery yard for a week\, or a paddock for a month\, Andalusian Hoses Riding offers you the services according your needs. \n
URL:https://www.andalusianhorseriding.com/activity/cordoba-horse-motel-vacation-horse/2018-01-13/
LOCATION:CORDOBA\, 11001\, Spain
CATEGORIES:HORSE ACCOMODATION
ATTACH;FMTTYPE=image/jpeg:https://www.andalusianhorseriding.com/wp-content/uploads/2018/01/HORSE-MOTEL2.jpg
ORGANIZER;CN="Andalusian%20Horse%20Experiences":MAILTO:info@andalusianhorseriding.com
END:VEVENT
END:VCALENDAR