BEGIN:VCALENDAR
VERSION:2.0
PRODID:-//Andalusian Horse Riding - ECPv4.9.13//NONSGML v1.0//EN
CALSCALE:GREGORIAN
METHOD:PUBLISH
X-WR-CALNAME:Andalusian Horse Riding
X-ORIGINAL-URL:https://www.andalusianhorseriding.com
X-WR-CALDESC:Events for Andalusian Horse Riding
BEGIN:VTIMEZONE
TZID:Europe/London
BEGIN:DAYLIGHT
TZOFFSETFROM:+0000
TZOFFSETTO:+0100
TZNAME:BST
DTSTART:20180325T010000
END:DAYLIGHT
BEGIN:STANDARD
TZOFFSETFROM:+0100
TZOFFSETTO:+0000
TZNAME:GMT
DTSTART:20181028T010000
END:STANDARD
END:VTIMEZONE
BEGIN:VEVENT
DTSTART;TZID=Europe/London:20180523T080000
DTEND;TZID=Europe/London:20180523T080000
DTSTAMP:20260421T153024
CREATED:20180517T191246Z
LAST-MODIFIED:20180517T191246Z
UID:11387-1527062400-1527062400@www.andalusianhorseriding.com
SUMMARY:CAZORLA HORSE RIDE . JAEN - SPAIN
DESCRIPTION:The best way to enjoy the spectacular landscapes of the Sierra de Cazorla. \n \n
URL:https://www.andalusianhorseriding.com/activity/cazorla-horse-ride-jaen-spain/2018-05-23/
LOCATION:CAZORLA\, 23470\, Spain
CATEGORIES:Horse Riding
ATTACH;FMTTYPE=image/png:https://www.andalusianhorseriding.com/wp-content/uploads/2018/05/CAZORLA.png
ORGANIZER;CN="Andalusian%20Horse%20Experiences":MAILTO:info@andalusianhorseriding.com
END:VEVENT
END:VCALENDAR