BEGIN:VCALENDAR
VERSION:2.0
PRODID:-//Andalusian Horse Riding - ECPv4.9.13//NONSGML v1.0//EN
CALSCALE:GREGORIAN
METHOD:PUBLISH
X-WR-CALNAME:Andalusian Horse Riding
X-ORIGINAL-URL:https://www.andalusianhorseriding.com
X-WR-CALDESC:Events for Andalusian Horse Riding
BEGIN:VTIMEZONE
TZID:Europe/London
BEGIN:DAYLIGHT
TZOFFSETFROM:+0000
TZOFFSETTO:+0100
TZNAME:BST
DTSTART:20180325T010000
END:DAYLIGHT
BEGIN:STANDARD
TZOFFSETFROM:+0100
TZOFFSETTO:+0000
TZNAME:GMT
DTSTART:20181028T010000
END:STANDARD
END:VTIMEZONE
BEGIN:VEVENT
DTSTART;TZID=Europe/London:20180113T080000
DTEND;TZID=Europe/London:20180113T080000
DTSTAMP:20260421T121810
CREATED:20180108T083153Z
LAST-MODIFIED:20180108T083153Z
UID:9216-1515830400-1515830400@www.andalusianhorseriding.com
SUMMARY:CARDEÑA. NATURAL PARK IN CORDOBA. HORSE MOTEL.
DESCRIPTION:NATURAL PARK . CARDEÑA IN ANDALUSIA. SPAIN. \nIf you’re traveling and need lodging for your horse\, Andalusian Horse Riding offers high quality facilities to assure our customers a safe\, comfortable overnight stay \n
URL:https://www.andalusianhorseriding.com/activity/cardena-natural-park-cordoba-horse-motel/2018-01-13/
LOCATION:CARDEÑA NATURAL PARK\, CORDOBA\, 14445\, Spain
CATEGORIES:HORSE ACCOMODATION
ATTACH;FMTTYPE=image/jpeg:https://www.andalusianhorseriding.com/wp-content/uploads/2018/01/HORSEMOTEL1.jpg
ORGANIZER;CN="Andalusian%20Horse%20Experiences":MAILTO:info@andalusianhorseriding.com
END:VEVENT
END:VCALENDAR