BEGIN:VCALENDAR
VERSION:2.0
PRODID:-//Andalusian Horse Riding - ECPv4.9.13//NONSGML v1.0//EN
CALSCALE:GREGORIAN
METHOD:PUBLISH
X-WR-CALNAME:Andalusian Horse Riding
X-ORIGINAL-URL:https://www.andalusianhorseriding.com
X-WR-CALDESC:Events for Andalusian Horse Riding
BEGIN:VTIMEZONE
TZID:Europe/London
BEGIN:DAYLIGHT
TZOFFSETFROM:+0000
TZOFFSETTO:+0100
TZNAME:BST
DTSTART:20170326T010000
END:DAYLIGHT
BEGIN:STANDARD
TZOFFSETFROM:+0100
TZOFFSETTO:+0000
TZNAME:GMT
DTSTART:20171029T010000
END:STANDARD
END:VTIMEZONE
BEGIN:VEVENT
DTSTART;TZID=Europe/London:20171109T080000
DTEND;TZID=Europe/London:20171109T080000
DTSTAMP:20260421T132915
CREATED:20170818T102029Z
LAST-MODIFIED:20171020T194445Z
UID:1448-1510214400-1510214400@www.andalusianhorseriding.com
SUMMARY:BILINGUAL EDUCATIONAL TOURS AND SCHOOL
DESCRIPTION:Andalusian Horse Riding understands the importance of being bilingual and the education of the children. This tour will allow the children to develop social skills as well as practice their Spanish or their english (depending the maternal language)while participating in activities that enriches their language skills. When children are given the opportunity to learn a language while having fun\, it is easier for them to develop the skills. Andalusian Horse Riding is proud to offer its services to children looking to develop language skills. \nMUSEUMS\, ZOO\,CASTLES\, HORSE RIDES\, ALCORNOCALES (CORKTREES FOREST) and more  activities! \n
URL:https://www.andalusianhorseriding.com/activity/bilingual-educational-tours-school/2017-11-09/
LOCATION:Castellar de la Frontera\, CASTELLAR DE LA FRONTERA\, CADIZ\, 11350\, Spain
CATEGORIES:Andalusian Culture,Horse Riding
ATTACH;FMTTYPE=image/jpeg:https://www.andalusianhorseriding.com/wp-content/uploads/2017/08/bilingual-education-at-Schools.jpg
ORGANIZER;CN="Andalusian%20Horse%20Experiences":MAILTO:info@andalusianhorseriding.com
END:VEVENT
END:VCALENDAR