BEGIN:VCALENDAR
VERSION:2.0
PRODID:-//Andalusian Horse Riding - ECPv4.9.13//NONSGML v1.0//EN
CALSCALE:GREGORIAN
METHOD:PUBLISH
X-WR-CALNAME:Andalusian Horse Riding
X-ORIGINAL-URL:https://www.andalusianhorseriding.com
X-WR-CALDESC:Events for Andalusian Horse Riding
BEGIN:VTIMEZONE
TZID:Europe/London
BEGIN:DAYLIGHT
TZOFFSETFROM:+0000
TZOFFSETTO:+0100
TZNAME:BST
DTSTART:20180325T010000
END:DAYLIGHT
BEGIN:STANDARD
TZOFFSETFROM:+0100
TZOFFSETTO:+0000
TZNAME:GMT
DTSTART:20181028T010000
END:STANDARD
END:VTIMEZONE
BEGIN:VEVENT
DTSTART;TZID=Europe/London:20180525T080000
DTEND;TZID=Europe/London:20180525T080000
DTSTAMP:20260421T123402
CREATED:20180517T191716Z
LAST-MODIFIED:20180517T193025Z
UID:11437-1527235200-1527235200@www.andalusianhorseriding.com
SUMMARY:BAEZA HORSE RIDE
DESCRIPTION:  \nHORSE RIDE IN BAEZA. JAEN. SPAIN \nThe best way to enjoy the spectacular landscapes of the COUNTRYSIDE IN THE PROVINCE OF jAEN. Horse riding.  \n
URL:https://www.andalusianhorseriding.com/activity/baeza-horse-ride/2018-05-25/
LOCATION:BAEZA\, 23440\, Spain
CATEGORIES:Horse Riding
ATTACH;FMTTYPE=image/png:https://www.andalusianhorseriding.com/wp-content/uploads/2018/05/BAEZA.png
ORGANIZER;CN="Andalusian%20Horse%20Experiences":MAILTO:info@andalusianhorseriding.com
END:VEVENT
END:VCALENDAR