BEGIN:VCALENDAR
VERSION:2.0
PRODID:-//Andalusian Horse Riding - ECPv4.9.13//NONSGML v1.0//EN
CALSCALE:GREGORIAN
METHOD:PUBLISH
X-WR-CALNAME:Andalusian Horse Riding
X-ORIGINAL-URL:https://www.andalusianhorseriding.com
X-WR-CALDESC:Events for Andalusian Horse Riding
BEGIN:VTIMEZONE
TZID:Europe/London
BEGIN:DAYLIGHT
TZOFFSETFROM:+0000
TZOFFSETTO:+0100
TZNAME:BST
DTSTART:20170326T010000
END:DAYLIGHT
BEGIN:STANDARD
TZOFFSETFROM:+0100
TZOFFSETTO:+0000
TZNAME:GMT
DTSTART:20171029T010000
END:STANDARD
END:VTIMEZONE
BEGIN:VEVENT
DTSTART;TZID=Europe/London:20171101T080000
DTEND;TZID=Europe/London:20171101T080000
DTSTAMP:20260421T222047
CREATED:20171019T172125Z
LAST-MODIFIED:20171116T165714Z
UID:5229-1509523200-1509523200@www.andalusianhorseriding.com
SUMMARY:ALGAMITAS HORSE RIDES
DESCRIPTION:Welcome\, and prepare to embark on a memorable journey through one of Spain´s most beautiful settings. \n  \nWith this tour\, you will experience a relaxing view on horseback\, as well as discover the natural beauty of Spain. \nIf you are interested in embarking on this peaceful tour\, please contact Andalusian Horse Riding to schedule a horse riding tour. \nHORSE RIDE AVAILABLE DAILY. \navailable also the horse rides in : \nCORIPE\, ALCAIDESA\,ALGAMITAS\,MORÓN DE LA FRONTERA\, LOS PALACIOS\, UTRERA\,ALMONTE\, OLVERA\, BARBATE\, CARMONA\, DOÑANA\, GAUCIN\, SANLUCAR\, JEREZ DE LA FRONTERA\, OSUNA\, PRUNA\, PUERTO REAL\, PUERTO  SERRENO\, SIERRA NORTE DE SEVILLA\, TORREGUADIARO\, TORREMOLINOS\, RONDA\, CASTELLAR DE LA FRONTERA\, SEVILLE\, MONTELLANO\, JIMENA DE LA FRONTERA\,TARIFA\, SAN ENRIQUE DE GUADIARO\, CORDOBA… \n
URL:https://www.andalusianhorseriding.com/activity/5229/2017-11-01/
LOCATION:ALGAMITAS\, 41661
CATEGORIES:Horse Riding
ATTACH;FMTTYPE=image/jpeg:https://www.andalusianhorseriding.com/wp-content/uploads/2017/10/ALGAMITAS-HORSE-RIDES.jpg
ORGANIZER;CN="Andalusian%20Horse%20Experiences":MAILTO:info@andalusianhorseriding.com
END:VEVENT
END:VCALENDAR